BEGIN:VCALENDAR
VERSION:2.0
PRODID:-//Physikanten - ECPv6.0.6.2//NONSGML v1.0//EN
CALSCALE:GREGORIAN
METHOD:PUBLISH
X-WR-CALNAME:Physikanten
X-ORIGINAL-URL:https://www.physikanten.de
X-WR-CALDESC:Veranstaltungen für Physikanten
REFRESH-INTERVAL;VALUE=DURATION:PT1H
X-Robots-Tag:noindex
X-PUBLISHED-TTL:PT1H
BEGIN:VTIMEZONE
TZID:Europe/Berlin
BEGIN:DAYLIGHT
TZOFFSETFROM:+0100
TZOFFSETTO:+0200
TZNAME:CEST
DTSTART:20260329T010000
END:DAYLIGHT
BEGIN:STANDARD
TZOFFSETFROM:+0200
TZOFFSETTO:+0100
TZNAME:CET
DTSTART:20261025T010000
END:STANDARD
BEGIN:DAYLIGHT
TZOFFSETFROM:+0100
TZOFFSETTO:+0200
TZNAME:CEST
DTSTART:20270328T010000
END:DAYLIGHT
BEGIN:STANDARD
TZOFFSETFROM:+0200
TZOFFSETTO:+0100
TZNAME:CET
DTSTART:20271031T010000
END:STANDARD
END:VTIMEZONE
BEGIN:VEVENT
DTSTART;VALUE=DATE:20260425
DTEND;VALUE=DATE:20260426
DTSTAMP:20260420T112644
CREATED:20260320T115130Z
LAST-MODIFIED:20260320T115130Z
UID:8275-1777075200-1777161599@www.physikanten.de
SUMMARY:Brannenburg
DESCRIPTION:Tag der offenen Tür bei der Oelcheck GmbH in Brannenburg! Mit unserer „Großen Physikanten Show“ unterhalten wir euch mit spannenden Experimenten rund um das Thema Öl und Chemie – Wie immer mit einer großen Portion Witz. \nSowohl um 11\, als auch um 14 Uhr spielen wir für euch! \nDer Eintritt ist nach vorheriger Anmeldung hier frei.
URL:https://www.physikanten.de/termin/brannenburg/
CATEGORIES:Große Physikanten Show
END:VEVENT
BEGIN:VEVENT
DTSTART;TZID=Europe/Berlin:20260517T133000
DTEND;TZID=Europe/Berlin:20260517T141500
DTSTAMP:20260420T112644
CREATED:20260226T130056Z
LAST-MODIFIED:20260226T130056Z
UID:8254-1779024600-1779027300@www.physikanten.de
SUMMARY:Roodt-Syr (Luxemburg)
DESCRIPTION:Die Physikanten präsentieren: „Professors Highlights“ auf dem Klima- und Biodiversitätstag im Centre Culturel „Syrkus“. \nFreut euch auf 45 Minuten spektakuläre Show in Luxemburg!
URL:https://www.physikanten.de/termin/roodt-syr-luxemburg/
LOCATION:Centre Culturel „Syrkus“\, 30\, Am Stengert\, Roodt-sur-Syr\, L-6916\, Luxembourg
CATEGORIES:Professors Highlights
END:VEVENT
BEGIN:VEVENT
DTSTART;VALUE=DATE:20260614
DTEND;VALUE=DATE:20260615
DTSTAMP:20260420T112644
CREATED:20251205T114117Z
LAST-MODIFIED:20251205T114117Z
UID:8187-1781395200-1781481599@www.physikanten.de
SUMMARY:Dortmund
DESCRIPTION:Nach drei restlos ausverkauften Shows kehrt Marcus Weber zurück zu „Ruhrhochdeutsch“ und präsentiert erneut sein beliebtes „Ich hab da mal was vorbereitet“ Programm. \nKarten sind hier im Vorverkauf erhältlich. \nEs gibt sowohl um 14:30 Uhr\, als auch um 19:30 Uhr eine Vorstellung.
URL:https://www.physikanten.de/termin/dortmund-14/
LOCATION:RuhrHOCHdeutsch Spiegelzelt\, Heinz-Nixdorf-Straße\, Dortmund\, NRW\, 44263
CATEGORIES:Ich hab da mal was vorbereitet - Marcus Weber Soloprogramm
END:VEVENT
BEGIN:VEVENT
DTSTART;VALUE=DATE:20260620
DTEND;VALUE=DATE:20260622
DTSTAMP:20260420T112644
CREATED:20251205T113644Z
LAST-MODIFIED:20260409T090839Z
UID:8182-1781913600-1782086399@www.physikanten.de
SUMMARY:Mannheim
DESCRIPTION:Das „Explore Science Festival“ in Mannheim feiert Familientage – da sind wir mit unserem Programm natürlich sehr gerne am Start. Gleich 4 Mal könnt Ihr uns in Mannheim auf der Bühne erleben: \nShows am 20.06.: 12.30 + 16.00 Uhr \nShows am 21.06. 12.30 + 16.00 Uhr \nDer Eintritt ist kostenfrei\, Tickets müssen im Voraus hier erworben werden. \nWir freuen uns auf Euren Besuch!
URL:https://www.physikanten.de/termin/mannheim/
LOCATION:Konzertmuschel im Herzogenriedpark\, Max-Joseph-Straße 64\, Mannheim\, 68169
CATEGORIES:Große Physikanten Show
END:VEVENT
BEGIN:VEVENT
DTSTART;VALUE=DATE:20260629
DTEND;VALUE=DATE:20260701
DTSTAMP:20260420T112644
CREATED:20260326T111727Z
LAST-MODIFIED:20260326T111727Z
UID:8287-1782691200-1782863999@www.physikanten.de
SUMMARY:Bielefeld INTHEGA
DESCRIPTION:Wir sind auf dem INTHEGA-Kongress 2026! \nHier könnt ihr uns an unserem Stand treffen: \nMontag\, 29.06.26: 13:00 – 18:00 Uhr\nDienstag\, 30.06.26: 10:00 – 18:00 Uhr \nStandnummer 6.32
URL:https://www.physikanten.de/termin/bielefeld-inthega-2/
LOCATION:Ausstellungs- und Veranstaltungshalle Bielefeld\, Willy-Brandt-Platz 1\, Bielefeld\, 33602
CATEGORIES:Messe
END:VEVENT
BEGIN:VEVENT
DTSTART;VALUE=DATE:20260704
DTEND;VALUE=DATE:20260705
DTSTAMP:20260420T112644
CREATED:20251205T114223Z
LAST-MODIFIED:20251205T114223Z
UID:8190-1783123200-1783209599@www.physikanten.de
SUMMARY:Dortmund
DESCRIPTION:Nach drei restlos ausverkauften Shows kehrt Marcus Weber zurück zu „Ruhrhochdeutsch“ und präsentiert erneut sein beliebtes „Ich hab da mal was vorbereitet“ Programm. \nKarten sind hier im Vorverkauf erhältlich. \nEs gibt sowohl um 14:30 Uhr\, als auch um 19:30 Uhr eine Vorstellung.
URL:https://www.physikanten.de/termin/dortmund-15/
LOCATION:RuhrHOCHdeutsch Spiegelzelt\, Heinz-Nixdorf-Straße\, Dortmund\, NRW\, 44263
CATEGORIES:Ich hab da mal was vorbereitet - Marcus Weber Soloprogramm
END:VEVENT
BEGIN:VEVENT
DTSTART;TZID=Europe/Berlin:20260802T150000
DTEND;TZID=Europe/Berlin:20260802T170000
DTSTAMP:20260420T112644
CREATED:20251205T114515Z
LAST-MODIFIED:20251205T114515Z
UID:8193-1785682800-1785690000@www.physikanten.de
SUMMARY:Senftenberg
DESCRIPTION:Die Physikanten kehren zurück nach Senftenberg – diesmal mit einem völlig neuen Showformat: Bei „Watt’s Up – Die Energie Show“ dreht sich alles um erneuerbare Energie\, Nachhaltigkeit und Innovationen. Wie immer natürlich mit einem Augenzwinkern und einer großen Portion Humor. \nTickets sind bald erhältlich.
URL:https://www.physikanten.de/termin/senftenberg-4/
LOCATION:Neue Bühne Senftenberg\, Theaterpassage 1\, Senftenberg\, 01968
CATEGORIES:Watt's Up - Die Energie Show
END:VEVENT
BEGIN:VEVENT
DTSTART;TZID=Europe/Berlin:20260804T200000
DTEND;TZID=Europe/Berlin:20260804T220000
DTSTAMP:20260420T112644
CREATED:20260323T131718Z
LAST-MODIFIED:20260323T131718Z
UID:8284-1785873600-1785880800@www.physikanten.de
SUMMARY:Sylt
DESCRIPTION:Zieht euch warm an Sylt\, Marcus Weber spielt im Saal Frisia! \nMit seinem unterhaltsamen Solo-Programm lässt der Physikant 90 Minuten lang spannende Wissenschafts-Phänomene glänzen und teilt seine Leidenschaft für kuriose Experimente mit einer großen Portion Humor. \nTickets sind ab sofort hier erhältlich.
URL:https://www.physikanten.de/termin/sylt-2/
LOCATION:Saal Frisia\, Congress Centrum Sylt\, Friedrichstraße 44\, Sylt\, 25980
CATEGORIES:Ich hab da mal was vorbereitet - Marcus Weber Soloprogramm
END:VEVENT
BEGIN:VEVENT
DTSTART;VALUE=DATE:20260822
DTEND;VALUE=DATE:20260824
DTSTAMP:20260420T112644
CREATED:20251205T115213Z
LAST-MODIFIED:20251205T115213Z
UID:8199-1787356800-1787529599@www.physikanten.de
SUMMARY:Nordhorn
DESCRIPTION:Zwei Tage Tüftelwerkstatt beim Tag der offenen Tür unter dem Motto „Wir elektrisieren“. \nWir freuen uns\, ganz viele Experimente mit Euch zu bauen und auszuprobieren\, was die Welt der Physik hergibt. \nWeitere Informationen zur VA folgen in Kürze.
URL:https://www.physikanten.de/termin/nordhorn/
CATEGORIES:Tüftelwerkstatt
END:VEVENT
BEGIN:VEVENT
DTSTART;VALUE=DATE:20260829
DTEND;VALUE=DATE:20260830
DTSTAMP:20260420T112644
CREATED:20251205T115344Z
LAST-MODIFIED:20251205T115344Z
UID:8202-1787961600-1788047999@www.physikanten.de
SUMMARY:Nordhorn
DESCRIPTION:Zum Tag der offenen Tür unter dem Motto „Wir elektrisieren“ kommen die Physikanten mit ihrer 500.000 Volt Show und heizen dem Publikum richtig ein! \nWeitere Details zur Veranstaltung folgen alsbald.
URL:https://www.physikanten.de/termin/nordhorn-2/
CATEGORIES:Große Physikanten Show
END:VEVENT
BEGIN:VEVENT
DTSTART;VALUE=DATE:20260912
DTEND;VALUE=DATE:20260913
DTSTAMP:20260420T112644
CREATED:20251205T115534Z
LAST-MODIFIED:20251216T110202Z
UID:8205-1789171200-1789257599@www.physikanten.de
SUMMARY:Bremen
DESCRIPTION:Im Rahmen des Festivals „Explore Science“ spielen wir am Familientag 2 „Große Physikanten Shows“ in Bremen. \nShow 1: 12 Uhr \nShow 2: 15 Uhr \nWeitere Informationen zum Festival folgen bald.
URL:https://www.physikanten.de/termin/bremen/
LOCATION:Bürgerpark am Markusbrunnen\, Bürgerpark\, Bremen\, Bremen\, 28209
CATEGORIES:Große Physikanten Show
END:VEVENT
BEGIN:VEVENT
DTSTART;VALUE=DATE:20260926
DTEND;VALUE=DATE:20260927
DTSTAMP:20260420T112644
CREATED:20251205T115754Z
LAST-MODIFIED:20251216T110354Z
UID:8208-1790380800-1790467199@www.physikanten.de
SUMMARY:Magdeburg
DESCRIPTION:2026 wird das Science-Festival „Explore Science“ physikantisch! Auch in Magdeburg sind wir mit von der Partie und spielen gleich zwei spektakuläre Shows. \nShow 1: 12 Uhr \nShow 2: 15 Uhr \nWeitere Informationen zum Festival folgen bald.
URL:https://www.physikanten.de/termin/magdeburg/
LOCATION:Elbauenpark\, Tessenowstraße 7\, Magdeburg\, 39114
CATEGORIES:Große Physikanten Show
END:VEVENT
BEGIN:VEVENT
DTSTART;VALUE=DATE:20261120
DTEND;VALUE=DATE:20261121
DTSTAMP:20260420T112644
CREATED:20250508T112254Z
LAST-MODIFIED:20250508T112308Z
UID:7746-1795132800-1795219199@www.physikanten.de
SUMMARY:Haltern
DESCRIPTION:20 Jähriges Jubiläum Bürgerstiftung Haltern – Die Physikanten bringen Spektakuläres zur Feier in der Aula des Schulzentrums mit!\nFreuen Sie sich auf unsere „Große Physikanten Show“ mit allem\, was dazu gehört.\nInfos zu den Details folgen.
URL:https://www.physikanten.de/termin/haltern/
LOCATION:Schulzentrum Haltern am See\, Holtwicker Straße 5\, Haltern\, 45721
CATEGORIES:Große Physikanten Show
END:VEVENT
BEGIN:VEVENT
DTSTART;TZID=Europe/Berlin:20270117T140000
DTEND;TZID=Europe/Berlin:20270117T170000
DTSTAMP:20260420T112644
CREATED:20260323T130950Z
LAST-MODIFIED:20260323T130950Z
UID:8279-1800194400-1800205200@www.physikanten.de
SUMMARY:Pforzheim
DESCRIPTION:Marcus Weber rockt das Kulturhaus Osterfeld! Mit seinem unterhaltsamen Solo-Programm lässt der Physikant 90 Minuten lang spannende Wissenschafts-Phänomene glänzen und teilt seine Leidenschaft für kuriose Experimente mit einer großen Portion Humor. \nTickets sind ab sofort hier erhältlich.
URL:https://www.physikanten.de/termin/pforzheim/
LOCATION:Kulturhaus Osterfeld – Großer Saal\, Osterfeldstr. 12\, Pforzheim\, 75172
CATEGORIES:Ich hab da mal was vorbereitet - Marcus Weber Soloprogramm
END:VEVENT
END:VCALENDAR